BEGIN:VCALENDAR
VERSION:2.0
PRODID:VTCPA Courses
BEGIN:VEVENT
UID:course_id_076672SF
DTSTAMP:20260421T081248Z
DTSTART:20260528T133000Z
DTEND:20260528T153000Z
SUMMARY:Part 1: Ethical Foundations and Professional Responsibilties
LOCATION:Delta By Marriott, 1117 Williston Rd., South Burlington, VT
DESCRIPTION:Ethics
END:VEVENT
END:VCALENDAR