BEGIN:VCALENDAR
VERSION:2.0
PRODID:VTCPA Courses
BEGIN:VEVENT
UID:course_id_076673SF
DTSTAMP:20260421T094851Z
DTSTART:20260624T133000Z
DTEND:20260624T153000Z
SUMMARY:Part 2: Applying Ethical Judgment in Contemporary Accounting Practice     (In Person)
LOCATION:Hub CoWorks, 67 Merchant's Row Suite 201, Rutland, VT
DESCRIPTION:Ethics
END:VEVENT
END:VCALENDAR