BEGIN:VCALENDAR
VERSION:2.0
PRODID:VTCPA Courses
BEGIN:VEVENT
UID:course_id_76698IMP
DTSTAMP:20260420T035434Z
DTSTART:20260813T140000Z
DTEND:20260813T220000Z
SUMMARY:Surgent's Audit Skills Training Level 1: Developing Critical Skills for   Success in Public Accounting
LOCATION:Webinar
DESCRIPTION:Auditing, Regulatory Ethics
END:VEVENT
END:VCALENDAR