BEGIN:VCALENDAR
VERSION:2.0
PRODID:VTCPA Courses
BEGIN:VEVENT
UID:course_id_76702IMP
DTSTAMP:20260419T224252Z
DTSTART:20260820T140000Z
DTEND:20260820T220000Z
SUMMARY:Surgent's Audit Skills Training Level 2: Preparing for Increasing         Responsibilities in Public Accounting
LOCATION:Webinar
DESCRIPTION:Auditing
END:VEVENT
END:VCALENDAR