BEGIN:VCALENDAR
VERSION:2.0
PRODID:VTCPA Courses
BEGIN:VEVENT
UID:course_id_76729IMP
DTSTAMP:20260420T152529Z
DTSTART:20260727T130000Z
DTEND:20260727T163000Z
SUMMARY:Surgent's Current Issues in Accounting and Auditing: An Annual Update
LOCATION:Webinar
DESCRIPTION:Accounting, Auditing
END:VEVENT
END:VCALENDAR