BEGIN:VCALENDAR
VERSION:2.0
PRODID:VTCPA Courses
BEGIN:VEVENT
UID:course_id_76730IMP
DTSTAMP:20260420T054542Z
DTSTART:20260811T173000Z
DTEND:20260811T210000Z
SUMMARY:Surgent's Current Issues in Accounting and Auditing: An Annual Update
LOCATION:Webinar
DESCRIPTION:Accounting, Auditing
END:VEVENT
END:VCALENDAR