BEGIN:VCALENDAR
VERSION:2.0
PRODID:VTCPA Courses
BEGIN:VEVENT
UID:course_id_76731IMP
DTSTAMP:20260419T224252Z
DTSTART:20260820T130000Z
DTEND:20260820T163000Z
SUMMARY:Surgent's Current Issues in Accounting and Auditing: An Annual Update
LOCATION:Webinar
DESCRIPTION:Accounting, Auditing
END:VEVENT
END:VCALENDAR