BEGIN:VCALENDAR
VERSION:2.0
PRODID:VTCPA Courses
BEGIN:VEVENT
UID:course_id_76747IMP
DTSTAMP:20260420T152104Z
DTSTART:20260724T130000Z
DTEND:20260724T163000Z
SUMMARY:Surgent's Accountability and Action
LOCATION:Webinar
DESCRIPTION:Personnel/HR
END:VEVENT
END:VCALENDAR