BEGIN:VCALENDAR
VERSION:2.0
PRODID:VTCPA Courses
BEGIN:VEVENT
UID:course_id_76767IMP
DTSTAMP:20260420T104519Z
DTSTART:20260804T130000Z
DTEND:20260804T210000Z
SUMMARY:Surgent's Annual Accounting and Auditing Update
LOCATION:Webinar
DESCRIPTION:Accounting, Auditing
END:VEVENT
END:VCALENDAR