BEGIN:VCALENDAR
VERSION:2.0
PRODID:VTCPA Courses
BEGIN:VEVENT
UID:course_id_76768IMP
DTSTAMP:20260420T035531Z
DTSTART:20260813T130000Z
DTEND:20260813T210000Z
SUMMARY:Surgent's Annual Accounting and Auditing Update
LOCATION:Webinar
DESCRIPTION:Accounting, Auditing
END:VEVENT
END:VCALENDAR