BEGIN:VCALENDAR
VERSION:2.0
PRODID:VTCPA Courses
BEGIN:VEVENT
UID:course_id_76769IMP
DTSTAMP:20260420T020647Z
DTSTART:20260818T153000Z
DTEND:20260818T233000Z
SUMMARY:Surgent's Annual Accounting and Auditing Update
LOCATION:Webinar
DESCRIPTION:Accounting, Auditing
END:VEVENT
END:VCALENDAR