BEGIN:VCALENDAR
VERSION:2.0
PRODID:VTCPA Courses
BEGIN:VEVENT
UID:course_id_76770IMP
DTSTAMP:20260419T210850Z
DTSTART:20260825T130000Z
DTEND:20260825T210000Z
SUMMARY:Surgent's Annual Accounting and Auditing Update
LOCATION:Webinar
DESCRIPTION:Accounting, Auditing
END:VEVENT
END:VCALENDAR