BEGIN:VCALENDAR
VERSION:2.0
PRODID:VTCPA Courses
BEGIN:VEVENT
UID:course_id_76858IMP
DTSTAMP:20260420T091748Z
DTSTART:20260806T170000Z
DTEND:20260806T190000Z
SUMMARY:Surgent's Data Analytics for Accountants and Financial Managers
LOCATION:Webinar
DESCRIPTION:Accounting, Management
END:VEVENT
END:VCALENDAR