BEGIN:VCALENDAR
VERSION:2.0
PRODID:VTCPA Courses
BEGIN:VEVENT
UID:course_id_76893IMP
DTSTAMP:20260420T054749Z
DTSTART:20260811T170000Z
DTEND:20260811T190000Z
SUMMARY:Surgent's Introduction to AI in Accounting
LOCATION:Webinar
DESCRIPTION:Technology
END:VEVENT
END:VCALENDAR