BEGIN:VCALENDAR
VERSION:2.0
PRODID:VTCPA Courses
BEGIN:VEVENT
UID:course_id_76949IMP
DTSTAMP:20260420T002753Z
DTSTART:20260818T140000Z
DTEND:20260818T160000Z
SUMMARY:Surgent's Getting Ahead: The Art of Marketing for CPAs
LOCATION:Webinar
DESCRIPTION:Communications
END:VEVENT
END:VCALENDAR