BEGIN:VCALENDAR
VERSION:2.0
PRODID:VTCPA Courses
BEGIN:VEVENT
UID:course_id_76961IMP
DTSTAMP:20260420T171103Z
DTSTART:20260723T180000Z
DTEND:20260723T200000Z
SUMMARY:Surgent's Guide to the AICPA Quality Management Standards
LOCATION:Webinar
DESCRIPTION:Auditing
END:VEVENT
END:VCALENDAR