BEGIN:VCALENDAR
VERSION:2.0
PRODID:VTCPA Courses
BEGIN:VEVENT
UID:course_id_76962IMP
DTSTAMP:20260419T211830Z
DTSTART:20260824T140000Z
DTEND:20260824T160000Z
SUMMARY:Surgent's Guide to the AICPA Quality Management Standards
LOCATION:Webinar
DESCRIPTION:Auditing
END:VEVENT
END:VCALENDAR