BEGIN:VCALENDAR
VERSION:2.0
PRODID:VTCPA Courses
BEGIN:VEVENT
UID:course_id_76983IMP
DTSTAMP:20260420T072946Z
DTSTART:20260810T130000Z
DTEND:20260810T210000Z
SUMMARY:Surgent's Assessing the Risk of Fraud in a Financial Statement Audit
LOCATION:Webinar
DESCRIPTION:Auditing
END:VEVENT
END:VCALENDAR