BEGIN:VCALENDAR
VERSION:2.0
PRODID:VTCPA Courses
BEGIN:VEVENT
UID:course_id_77009IMP
DTSTAMP:20260420T054721Z
DTSTART:20260811T180000Z
DTEND:20260811T200000Z
SUMMARY:Surgent's Avoiding the Top 10 Mistakes That Can Wipe Out Retirement       Savings
LOCATION:Webinar
DESCRIPTION:Taxes
END:VEVENT
END:VCALENDAR