BEGIN:VCALENDAR
VERSION:2.0
PRODID:VTCPA Courses
BEGIN:VEVENT
UID:course_id_77018IMP
DTSTAMP:20260420T071533Z
DTSTART:20260806T140000Z
DTEND:20260806T160000Z
SUMMARY:Surgent's The AI-augmented Professional: Practical Tools, Real Risks, and Immediate Use Cases
LOCATION:Webinar
DESCRIPTION:Technology
END:VEVENT
END:VCALENDAR