BEGIN:VCALENDAR
VERSION:2.0
PRODID:VTCPA Courses
BEGIN:VEVENT
UID:course_id_77039IMP
DTSTAMP:20260420T184827Z
DTSTART:20260720T140000Z
DTEND:20260720T160000Z
SUMMARY:Surgent's Unconscious Bias for Managers, Supervisors, and Executives
LOCATION:Webinar
DESCRIPTION:Personnel/HR
END:VEVENT
END:VCALENDAR