BEGIN:VCALENDAR
VERSION:2.0
PRODID:VTCPA Courses
BEGIN:VEVENT
UID:course_id_77173IMP
DTSTAMP:20260420T184658Z
DTSTART:20260720T130000Z
DTEND:20260720T210000Z
SUMMARY:Surgent's Business Law Essentials for Practitioners and Controllers
LOCATION:Webinar
DESCRIPTION:Business Law
END:VEVENT
END:VCALENDAR