BEGIN:VCALENDAR
VERSION:2.0
PRODID:VTCPA Courses
BEGIN:VEVENT
UID:course_id_77174IMP
DTSTAMP:20260419T210844Z
DTSTART:20260825T130000Z
DTEND:20260825T210000Z
SUMMARY:Surgent's Business Law Essentials for Practitioners and Controllers
LOCATION:Webinar
DESCRIPTION:Business Law
END:VEVENT
END:VCALENDAR