BEGIN:VCALENDAR
VERSION:2.0
PRODID:VTCPA Courses
BEGIN:VEVENT
UID:course_id_77191IMP
DTSTAMP:20260420T170617Z
DTSTART:20260722T180000Z
DTEND:20260722T200000Z
SUMMARY:Surgent's Bankruptcy Basics:  Understanding the Reorganization and        Liquidation Process in These Uncertain Economic Times
LOCATION:Webinar
DESCRIPTION:Business Law
END:VEVENT
END:VCALENDAR