BEGIN:VCALENDAR
VERSION:2.0
PRODID:VTCPA Courses
BEGIN:VEVENT
UID:course_id_77192IMP
DTSTAMP:20260420T054728Z
DTSTART:20260812T140000Z
DTEND:20260812T160000Z
SUMMARY:Surgent's Bankruptcy Basics:  Understanding the Reorganization and        Liquidation Process in These Uncertain Economic Times
LOCATION:Webinar
DESCRIPTION:Business Law
END:VEVENT
END:VCALENDAR