BEGIN:VCALENDAR
VERSION:2.0
PRODID:VTCPA Courses
BEGIN:VEVENT
UID:course_id_77204IMP
DTSTAMP:20260420T090958Z
DTSTART:20260806T173000Z
DTEND:20260806T210000Z
SUMMARY:Surgent's Best Practices in Not-for-Profit Accounting and Reporting
LOCATION:Webinar
DESCRIPTION:Accounting (Governmental)
END:VEVENT
END:VCALENDAR