BEGIN:VCALENDAR
VERSION:2.0
PRODID:VTCPA Courses
BEGIN:VEVENT
UID:course_id_77234IMP
DTSTAMP:20260420T140054Z
DTSTART:20260729T140000Z
DTEND:20260729T160000Z
SUMMARY:Surgent's Features and Benefits of SEP IRAs and SIMPLE IRAs
LOCATION:Webinar
DESCRIPTION:Taxes
END:VEVENT
END:VCALENDAR