BEGIN:VCALENDAR
VERSION:2.0
PRODID:VTCPA Courses
BEGIN:VEVENT
UID:course_id_77235IMP
DTSTAMP:20260420T020954Z
DTSTART:20260817T180000Z
DTEND:20260817T200000Z
SUMMARY:Surgent's Features and Benefits of SEP IRAs and SIMPLE IRAs
LOCATION:Webinar
DESCRIPTION:Taxes
END:VEVENT
END:VCALENDAR