BEGIN:VCALENDAR
VERSION:2.0
PRODID:VTCPA Courses
BEGIN:VEVENT
UID:course_id_77283IMP
DTSTAMP:20260420T135947Z
DTSTART:20260729T180000Z
DTEND:20260729T200000Z
SUMMARY:Surgent's Business Writing: Professional & Effective Emails
LOCATION:Webinar
DESCRIPTION:Personal Development
END:VEVENT
END:VCALENDAR