BEGIN:VCALENDAR
VERSION:2.0
PRODID:VTCPA Courses
BEGIN:VEVENT
UID:course_id_77327IMP
DTSTAMP:20260420T153550Z
DTSTART:20260724T180000Z
DTEND:20260724T200000Z
SUMMARY:Surgent's Six Common Barriers to Investment Success
LOCATION:Webinar
DESCRIPTION:Economics
END:VEVENT
END:VCALENDAR