BEGIN:VCALENDAR
VERSION:2.0
PRODID:VTCPA Courses
BEGIN:VEVENT
UID:course_id_77398IMP
DTSTAMP:20260420T020647Z
DTSTART:20260818T130000Z
DTEND:20260818T210000Z
SUMMARY:Surgent's A Complete Guide to the Yellow Book
LOCATION:Webinar
DESCRIPTION:Auditing (Governmental)
END:VEVENT
END:VCALENDAR