BEGIN:VCALENDAR
VERSION:2.0
PRODID:VTCPA Courses
BEGIN:VEVENT
UID:course_id_77489IMP
DTSTAMP:20260420T153415Z
DTSTART:20260725T130000Z
DTEND:20260725T210000Z
SUMMARY:Surgent's Compilations, Reviews, and Preparations: Engagement Performance and Annual Update
LOCATION:Webinar
DESCRIPTION:Auditing
END:VEVENT
END:VCALENDAR