BEGIN:VCALENDAR
VERSION:2.0
PRODID:VTCPA Courses
BEGIN:VEVENT
UID:course_id_77490IMP
DTSTAMP:20260420T140054Z
DTSTART:20260730T140000Z
DTEND:20260730T220000Z
SUMMARY:Surgent's Compilations, Reviews, and Preparations: Engagement Performance and Annual Update
LOCATION:Webinar
DESCRIPTION:Auditing
END:VEVENT
END:VCALENDAR