BEGIN:VCALENDAR
VERSION:2.0
PRODID:VTCPA Courses
BEGIN:VEVENT
UID:course_id_77492IMP
DTSTAMP:20260420T054239Z
DTSTART:20260812T130000Z
DTEND:20260812T210000Z
SUMMARY:Surgent's Compilations, Reviews, and Preparations: Engagement Performance and Annual Update
LOCATION:Webinar
DESCRIPTION:Auditing
END:VEVENT
END:VCALENDAR