BEGIN:VCALENDAR
VERSION:2.0
PRODID:VTCPA Courses
BEGIN:VEVENT
UID:course_id_77525IMP
DTSTAMP:20260420T035538Z
DTSTART:20260814T130000Z
DTEND:20260814T163000Z
SUMMARY:Surgent's Guide and Update to Compilations, Reviews, and Preparations
LOCATION:Webinar
DESCRIPTION:Auditing
END:VEVENT
END:VCALENDAR