BEGIN:VCALENDAR
VERSION:2.0
PRODID:VTCPA Courses
BEGIN:VEVENT
UID:course_id_77526IMP
DTSTAMP:20260419T210759Z
DTSTART:20260824T130000Z
DTEND:20260824T163000Z
SUMMARY:Surgent's Guide and Update to Compilations, Reviews, and Preparations
LOCATION:Webinar
DESCRIPTION:Auditing
END:VEVENT
END:VCALENDAR