BEGIN:VCALENDAR
VERSION:2.0
PRODID:VTCPA Courses
BEGIN:VEVENT
UID:course_id_77545IMP
DTSTAMP:20260420T054327Z
DTSTART:20260812T140000Z
DTEND:20260812T160000Z
SUMMARY:Surgent's Guide to Calculating S Corporation Shareholder Stock and Loan   Basis
LOCATION:Webinar
DESCRIPTION:Taxes
END:VEVENT
END:VCALENDAR