BEGIN:VCALENDAR
VERSION:2.0
PRODID:VTCPA Courses
BEGIN:VEVENT
UID:course_id_77554IMP
DTSTAMP:20260420T091847Z
DTSTART:20260805T170000Z
DTEND:20260805T203000Z
SUMMARY:Surgent's Construction Contractors: Accounting and Financial Reporting    Issues
LOCATION:Webinar
DESCRIPTION:Accounting
END:VEVENT
END:VCALENDAR