BEGIN:VCALENDAR
VERSION:2.0
PRODID:VTCPA Courses
BEGIN:VEVENT
UID:course_id_77579IMP
DTSTAMP:20260420T003604Z
DTSTART:20260818T190000Z
DTEND:20260818T210000Z
SUMMARY:Surgent's Generative AI and Cybersecurity: Opportunities and Threats
LOCATION:Webinar
DESCRIPTION:Technology
END:VEVENT
END:VCALENDAR