BEGIN:VCALENDAR
VERSION:2.0
PRODID:VTCPA Courses
BEGIN:VEVENT
UID:course_id_77644IMP
DTSTAMP:20260420T035312Z
DTSTART:20260813T190000Z
DTEND:20260813T200000Z
SUMMARY:Surgent's Data Security: Best Practices to Protect Your Business and      Yourself
LOCATION:Webinar
DESCRIPTION:Technology
END:VEVENT
END:VCALENDAR