BEGIN:VCALENDAR
VERSION:2.0
PRODID:VTCPA Courses
BEGIN:VEVENT
UID:course_id_77656IMP
DTSTAMP:20260420T184827Z
DTSTART:20260720T180000Z
DTEND:20260720T200000Z
SUMMARY:Surgent's Privacy and Security Training: Obligations of Confidentiality   and Safekeeping
LOCATION:Webinar
DESCRIPTION:Technology
END:VEVENT
END:VCALENDAR