BEGIN:VCALENDAR
VERSION:2.0
PRODID:VTCPA Courses
BEGIN:VEVENT
UID:course_id_77657IMP
DTSTAMP:20260419T224446Z
DTSTART:20260820T140000Z
DTEND:20260820T160000Z
SUMMARY:Surgent's Privacy and Security Training: Obligations of Confidentiality   and Safekeeping
LOCATION:Webinar
DESCRIPTION:Technology
END:VEVENT
END:VCALENDAR