BEGIN:VCALENDAR
VERSION:2.0
PRODID:VTCPA Courses
BEGIN:VEVENT
UID:course_id_77702IMP
DTSTAMP:20260420T035251Z
DTSTART:20260814T140000Z
DTEND:20260814T160000Z
SUMMARY:Surgent's Elder Fraud
LOCATION:Webinar
DESCRIPTION:Specialized Knowledge
END:VEVENT
END:VCALENDAR