BEGIN:VCALENDAR
VERSION:2.0
PRODID:VTCPA Courses
BEGIN:VEVENT
UID:course_id_77763IMP
DTSTAMP:20260420T020947Z
DTSTART:20260817T170000Z
DTEND:20260817T203000Z
SUMMARY:Surgent's Emotional Intelligence
LOCATION:Webinar
DESCRIPTION:Personal Development
END:VEVENT
END:VCALENDAR