BEGIN:VCALENDAR
VERSION:2.0
PRODID:VTCPA Courses
BEGIN:VEVENT
UID:course_id_77772IMP
DTSTAMP:20260420T135449Z
DTSTART:20260728T130000Z
DTEND:20260728T210000Z
SUMMARY:Surgent's Preparing Not-for-Profit Financial Statements
LOCATION:Webinar
DESCRIPTION:Accounting (Governmental)
END:VEVENT
END:VCALENDAR