BEGIN:VCALENDAR
VERSION:2.0
PRODID:VTCPA Courses
BEGIN:VEVENT
UID:course_id_77784IMP
DTSTAMP:20260420T035252Z
DTSTART:20260814T140000Z
DTEND:20260814T160000Z
SUMMARY:Surgent's Engagement Letters: Scope and Risk Management
LOCATION:Webinar
DESCRIPTION:Business Law
END:VEVENT
END:VCALENDAR