BEGIN:VCALENDAR
VERSION:2.0
PRODID:VTCPA Courses
BEGIN:VEVENT
UID:course_id_77795IMP
DTSTAMP:20260420T090959Z
DTSTART:20260805T130000Z
DTEND:20260805T163000Z
SUMMARY:Surgent's Avoiding Deficiencies in Peer Reviews: Focus on Engagement      Quality
LOCATION:Webinar
DESCRIPTION:Auditing
END:VEVENT
END:VCALENDAR