BEGIN:VCALENDAR
VERSION:2.0
PRODID:VTCPA Courses
BEGIN:VEVENT
UID:course_id_77803IMP
DTSTAMP:20260419T194154Z
DTSTART:20260826T130000Z
DTEND:20260826T163000Z
SUMMARY:Surgent's Enterprise Risk Management Concepts and Strategy for Small and  Medium-Sized Companies
LOCATION:Webinar
DESCRIPTION:Management
END:VEVENT
END:VCALENDAR