BEGIN:VCALENDAR
VERSION:2.0
PRODID:VTCPA Courses
BEGIN:VEVENT
UID:course_id_77871IMP
DTSTAMP:20260420T003952Z
DTSTART:20260819T170000Z
DTEND:20260819T190000Z
SUMMARY:Surgent's Excel Budgeting Ideas
LOCATION:Webinar
DESCRIPTION:Computer Science
END:VEVENT
END:VCALENDAR