BEGIN:VCALENDAR
VERSION:2.0
PRODID:VTCPA Courses
BEGIN:VEVENT
UID:course_id_77872IMP
DTSTAMP:20260419T224622Z
DTSTART:20260820T140000Z
DTEND:20260820T160000Z
SUMMARY:Surgent's Excel Budgeting Ideas
LOCATION:Webinar
DESCRIPTION:Computer Science
END:VEVENT
END:VCALENDAR